BEGIN:VCALENDAR
VERSION:2.0
PRODID:-//Arizona State Rifle and Pistol Association - ECPv6.15.20//NONSGML v1.0//EN
CALSCALE:GREGORIAN
METHOD:PUBLISH
X-WR-CALNAME:Arizona State Rifle and Pistol Association
X-ORIGINAL-URL:https://asrpa.com
X-WR-CALDESC:Events for Arizona State Rifle and Pistol Association
REFRESH-INTERVAL;VALUE=DURATION:PT1H
X-Robots-Tag:noindex
X-PUBLISHED-TTL:PT1H
BEGIN:VTIMEZONE
TZID:America/Denver
BEGIN:DAYLIGHT
TZOFFSETFROM:-0700
TZOFFSETTO:-0600
TZNAME:MDT
DTSTART:20220313T090000
END:DAYLIGHT
BEGIN:STANDARD
TZOFFSETFROM:-0600
TZOFFSETTO:-0700
TZNAME:MST
DTSTART:20221106T080000
END:STANDARD
BEGIN:DAYLIGHT
TZOFFSETFROM:-0700
TZOFFSETTO:-0600
TZNAME:MDT
DTSTART:20230312T090000
END:DAYLIGHT
BEGIN:STANDARD
TZOFFSETFROM:-0600
TZOFFSETTO:-0700
TZNAME:MST
DTSTART:20231105T080000
END:STANDARD
BEGIN:DAYLIGHT
TZOFFSETFROM:-0700
TZOFFSETTO:-0600
TZNAME:MDT
DTSTART:20240310T090000
END:DAYLIGHT
BEGIN:STANDARD
TZOFFSETFROM:-0600
TZOFFSETTO:-0700
TZNAME:MST
DTSTART:20241103T080000
END:STANDARD
END:VTIMEZONE
BEGIN:VEVENT
DTSTART;TZID=America/Denver:20230625T080000
DTEND;TZID=America/Denver:20230625T120000
DTSTAMP:20260420T141441
CREATED:20230410T150549Z
LAST-MODIFIED:20230410T150549Z
UID:10000019-1687680000-1687694400@asrpa.com
SUMMARY:Schutzen Rifle Match
DESCRIPTION:CAST BULLET DIVISION\nARIZONA STATE RIFLE AND PISTOL ASSOCIATION\nSCHÜTZEN RIFLE MATCH 2023 \nRange:  Benchrest \nThe Cast Bullet Division of the ASRPA conducts rifle matches shooting cast lead bullets.  The Division has three sections:  Cast Bullet Benchrest\, Schuetzen and 22BPCR.  Each section conducts its own matches under their Match Director.  All matches are shot at the Ben Avery Range. \nFor more information\, times and fees contact match director:  Byron Goff at ffgco1@hotmail.com
URL:https://asrpa.com/event/schutzen-rifle-match-6/
LOCATION:Ben Avery Shooting Facility\, 4044 W Black Canyon Blvd\, PHOENIX\, AZ\, 85086\, United States
END:VEVENT
BEGIN:VEVENT
DTSTART;TZID=America/Denver:20230618T080000
DTEND;TZID=America/Denver:20230618T120000
DTSTAMP:20260420T141441
CREATED:20230410T150442Z
LAST-MODIFIED:20230410T150442Z
UID:10000018-1687075200-1687089600@asrpa.com
SUMMARY:Schutzen Rifle Match
DESCRIPTION:CAST BULLET DIVISION\nARIZONA STATE RIFLE AND PISTOL ASSOCIATION\nSCHÜTZEN RIFLE MATCH 2023 \nRange:  Benchrest \nThe Cast Bullet Division of the ASRPA conducts rifle matches shooting cast lead bullets.  The Division has three sections:  Cast Bullet Benchrest\, Schuetzen and 22BPCR.  Each section conducts its own matches under their Match Director.  All matches are shot at the Ben Avery Range. \nFor more information\, times and fees contact match director:  Byron Goff at ffgco1@hotmail.com
URL:https://asrpa.com/event/schutzen-rifle-match-5/
LOCATION:Ben Avery Shooting Facility\, 4044 W Black Canyon Blvd\, PHOENIX\, AZ\, 85086\, United States
END:VEVENT
BEGIN:VEVENT
DTSTART;TZID=America/Denver:20230611T080000
DTEND;TZID=America/Denver:20230611T120000
DTSTAMP:20260420T141441
CREATED:20230410T151615Z
LAST-MODIFIED:20230410T151615Z
UID:10000031-1686470400-1686484800@asrpa.com
SUMMARY:Cast Bullet Benchrest Match
DESCRIPTION:CAST BULLET DIVISION\nARIZONA STATE RIFLE AND PISTOL ASSOCIATION\nCAST BULLET BENCHREST MATCH 2023 \nRange:  Commercial on Benchrest \nThe Cast Bullet Division of the ASRPA conducts rifle matches shooting cast lead bullets.  The Division has three sections:  Cast Bullet Benchrest\, Schuetzen and 22BPCR.  Each section conducts its own matches under their Match Director.  All matches are shot at the Ben Avery Range. \nFor more information\, times and fees contact match director:  Dan Walliser at dwalliser32@gmail.com
URL:https://asrpa.com/event/cast-bullet-benchrest-match-3/
LOCATION:Ben Avery Shooting Facility\, 4044 W Black Canyon Blvd\, PHOENIX\, AZ\, 85086\, United States
END:VEVENT
BEGIN:VEVENT
DTSTART;TZID=America/Denver:20230608T173000
DTEND;TZID=America/Denver:20230608T190000
DTSTAMP:20260420T141441
CREATED:20230321T203049Z
LAST-MODIFIED:20230410T193529Z
UID:10000050-1686245400-1686250800@asrpa.com
SUMMARY:Cactus Clays Beginning Sporting Clays Instruction
DESCRIPTION:Cactus Clays Beginning Sporting Clays Instruction \n9-week NRA Shotgun Course for instruction and training of beginning shotgun shooters in the clay target sport of SPORTING CLAYS \nClass Starts April 13\, 2023 and ends June 8\, 2023. \nFor more information:  https://shotgundivisionasrpa.square.site/ \nor email: asrpashots@gmail.com
URL:https://asrpa.com/event/cactus-clays-beginning-sporting-clays-instruction/2023-06-08/
LOCATION:Ben Avery Clay Target Center\, 5060 West Skeet Street\, Phoenix\, Arizona\, 85086
ATTACH;FMTTYPE=image/jpeg:https://asrpa.com/wp-content/uploads/2023/04/ASRPA-Cactus-Clays.jpg
ORGANIZER;CN="ASRPA Shotgun Division":MAILTO:asrpashoots@gmail.com
END:VEVENT
BEGIN:VEVENT
DTSTART;TZID=America/Denver:20230602T073000
DTEND;TZID=America/Denver:20230604T170000
DTSTAMP:20260420T141441
CREATED:20230321T194628Z
LAST-MODIFIED:20230321T194628Z
UID:10000008-1685691000-1685898000@asrpa.com
SUMMARY:2023 Phoenix ISSA Regional program
DESCRIPTION:2023 PHOENIX REGIONAL\nBEN AVERY SHOOTING FACILITY\n4044 W. BLACK CANYON BLVD.\nPHOENIX\, ARIZONA \nDates:  June 2\, 3\, 4\, 2023 \nContact: Jeanie Hershey\, 40918 N 3rd Ave\, Phoenix\, AZ\nCOWGIRL3220@gmail.com\nPhone 623-465-7858 \nFRIDAY\, JUNE 2 – 7:30-8:30 registration and target setup\n9:00    ISBR at 200 yards 20 rounds (10 / target) 10 minutes sight–in\, 1 hour relay\n10:30  ISOH at 200 yards 20 rounds (10 / target) 10minutes sight–in\, 1 hour relay\n12:30 – 1:30 lunch will be provided\n1:30  25 Cal BR at 200 yards 20 rounds (10 / target) 10 minutes sight–in\, 1 hour relay\n3:00  25 Cal OH at 200 yards 20 rounds (10/ target) 10 minutes sight-in\, 1 hour relay \nSATURDAY\, JUNE 3 — TARGETS TO BE HUNG BY 8:30\n9:00    ASBR at 200 yards 20 rounds (10/ target) 10 minutes sight-in\, 1 hour relay\n10:30  ASOH at 200 yards 20 rounds (10/ target) 10 minutes sight-in\, 1 hour relay  KING MATCH following ASOH match\n12:30Lunch will be provided. \nSUNDAY\, June 4 – TARGETS TO BE HUNG BY 8:30\n9:00    RFBR at 100 yards 20 rounds (10/target) 10 minutes sight-in\, 36 minutes relay\n10:00  RFOH at 100 yards 20 rounds (10 /target) 10 minutes sight–in\, 36 minutes relay\nKING MATCH following rimfire OH match\nLunch will be provided \nAwards as soon as scores are ready\nMedals for each match. \nNAME: ___________________________________\nADDRESS: ________________________________\nCITY:  _____________________________________  STATE: _______   ZIP CODE: _____________\nPHONE #: ___________________________________\nEMAIL: ___________________________________________________ \nAdult Entry Fee $30.00 _________________\nYouth Entry Fee $10.00 ________________\nISBR   $5.00 ________________\nISOH   $5.00 ________________\n25BR   $5.00 ________________\n25OH   $5.00 ________________\nASBR   $5.00 ________________\nASOH   $5.00 ________________\nRFBR   $5.00 ________________\nRFOH   $5.00 ________________ \nTOTAL_____________________                                                           \nMake Checks Payable to Jeanie Hershey                 \nREQUEST BLACK TARGET ___ISBR ___ISOH ___ASBR ___ASOH ___25CalBR ___25OH ___RFBR ___RFO
URL:https://asrpa.com/event/2023-phoenix-issa-regional-program/
LOCATION:Ben Avery Shooting Facility\, 4044 W Black Canyon Blvd\, PHOENIX\, AZ\, 85086\, United States
END:VEVENT
BEGIN:VEVENT
DTSTART;TZID=America/Denver:20230601T173000
DTEND;TZID=America/Denver:20230601T190000
DTSTAMP:20260420T141441
CREATED:20230321T203049Z
LAST-MODIFIED:20230410T193529Z
UID:10000049-1685640600-1685646000@asrpa.com
SUMMARY:Cactus Clays Beginning Sporting Clays Instruction
DESCRIPTION:Cactus Clays Beginning Sporting Clays Instruction \n9-week NRA Shotgun Course for instruction and training of beginning shotgun shooters in the clay target sport of SPORTING CLAYS \nClass Starts April 13\, 2023 and ends June 8\, 2023. \nFor more information:  https://shotgundivisionasrpa.square.site/ \nor email: asrpashots@gmail.com
URL:https://asrpa.com/event/cactus-clays-beginning-sporting-clays-instruction/2023-06-01/
LOCATION:Ben Avery Clay Target Center\, 5060 West Skeet Street\, Phoenix\, Arizona\, 85086
ATTACH;FMTTYPE=image/jpeg:https://asrpa.com/wp-content/uploads/2023/04/ASRPA-Cactus-Clays.jpg
ORGANIZER;CN="ASRPA Shotgun Division":MAILTO:asrpashoots@gmail.com
END:VEVENT
BEGIN:VEVENT
DTSTART;TZID=America/Denver:20230601T080000
DTEND;TZID=America/Denver:20230603T120000
DTSTAMP:20260420T141441
CREATED:20230410T150250Z
LAST-MODIFIED:20230410T150250Z
UID:10000017-1685606400-1685793600@asrpa.com
SUMMARY:Schutzen Rifle Match
DESCRIPTION:CAST BULLET DIVISION\nARIZONA STATE RIFLE AND PISTOL ASSOCIATION\nSCHÜTZEN RIFLE MATCH 2023 \nState Match \nRange:  Benchrest \nThe Cast Bullet Division of the ASRPA conducts rifle matches shooting cast lead bullets.  The Division has three sections:  Cast Bullet Benchrest\, Schuetzen and 22BPCR.  Each section conducts its own matches under their Match Director.  All matches are shot at the Ben Avery Range. \nFor more information\, times and fees contact match director:  Byron Goff at ffgco1@hotmail.com
URL:https://asrpa.com/event/schutzen-rifle-match-4/
LOCATION:Ben Avery Shooting Facility\, 4044 W Black Canyon Blvd\, PHOENIX\, AZ\, 85086\, United States
END:VEVENT
BEGIN:VEVENT
DTSTART;TZID=America/Denver:20230528T080000
DTEND;TZID=America/Denver:20230528T120000
DTSTAMP:20260420T141441
CREATED:20230410T151539Z
LAST-MODIFIED:20230410T151539Z
UID:10000030-1685260800-1685275200@asrpa.com
SUMMARY:Cast Bullet Benchrest Match
DESCRIPTION:CAST BULLET DIVISION\nARIZONA STATE RIFLE AND PISTOL ASSOCIATION\nCAST BULLET BENCHREST MATCH 2023 \nRange:  Military on Benchrest \nThe Cast Bullet Division of the ASRPA conducts rifle matches shooting cast lead bullets.  The Division has three sections:  Cast Bullet Benchrest\, Schuetzen and 22BPCR.  Each section conducts its own matches under their Match Director.  All matches are shot at the Ben Avery Range. \nFor more information\, times and fees contact match director:  Dan Walliser at dwalliser32@gmail.com
URL:https://asrpa.com/event/cast-bullet-benchrest-match-2/
LOCATION:Ben Avery Shooting Facility\, 4044 W Black Canyon Blvd\, PHOENIX\, AZ\, 85086\, United States
END:VEVENT
BEGIN:VEVENT
DTSTART;TZID=America/Denver:20230525T173000
DTEND;TZID=America/Denver:20230525T190000
DTSTAMP:20260420T141441
CREATED:20230321T203049Z
LAST-MODIFIED:20230410T193529Z
UID:10000048-1685035800-1685041200@asrpa.com
SUMMARY:Cactus Clays Beginning Sporting Clays Instruction
DESCRIPTION:Cactus Clays Beginning Sporting Clays Instruction \n9-week NRA Shotgun Course for instruction and training of beginning shotgun shooters in the clay target sport of SPORTING CLAYS \nClass Starts April 13\, 2023 and ends June 8\, 2023. \nFor more information:  https://shotgundivisionasrpa.square.site/ \nor email: asrpashots@gmail.com
URL:https://asrpa.com/event/cactus-clays-beginning-sporting-clays-instruction/2023-05-25/
LOCATION:Ben Avery Clay Target Center\, 5060 West Skeet Street\, Phoenix\, Arizona\, 85086
ATTACH;FMTTYPE=image/jpeg:https://asrpa.com/wp-content/uploads/2023/04/ASRPA-Cactus-Clays.jpg
ORGANIZER;CN="ASRPA Shotgun Division":MAILTO:asrpashoots@gmail.com
END:VEVENT
BEGIN:VEVENT
DTSTART;TZID=America/Denver:20230518T173000
DTEND;TZID=America/Denver:20230518T190000
DTSTAMP:20260420T141441
CREATED:20230321T203049Z
LAST-MODIFIED:20230410T193529Z
UID:10000047-1684431000-1684436400@asrpa.com
SUMMARY:Cactus Clays Beginning Sporting Clays Instruction
DESCRIPTION:Cactus Clays Beginning Sporting Clays Instruction \n9-week NRA Shotgun Course for instruction and training of beginning shotgun shooters in the clay target sport of SPORTING CLAYS \nClass Starts April 13\, 2023 and ends June 8\, 2023. \nFor more information:  https://shotgundivisionasrpa.square.site/ \nor email: asrpashots@gmail.com
URL:https://asrpa.com/event/cactus-clays-beginning-sporting-clays-instruction/2023-05-18/
LOCATION:Ben Avery Clay Target Center\, 5060 West Skeet Street\, Phoenix\, Arizona\, 85086
ATTACH;FMTTYPE=image/jpeg:https://asrpa.com/wp-content/uploads/2023/04/ASRPA-Cactus-Clays.jpg
ORGANIZER;CN="ASRPA Shotgun Division":MAILTO:asrpashoots@gmail.com
END:VEVENT
BEGIN:VEVENT
DTSTART;TZID=America/Denver:20230513T080000
DTEND;TZID=America/Denver:20230513T120000
DTSTAMP:20260420T141441
CREATED:20230410T152648Z
LAST-MODIFIED:20230410T152648Z
UID:10000038-1683964800-1683979200@asrpa.com
SUMMARY:22BPCR Match
DESCRIPTION:CAST BULLET DIVISION\nARIZONA STATE RIFLE AND PISTOL ASSOCIATION\n22BPCR MATCH 2023 \nRange:  Pistol Silhouette \nThe Cast Bullet Division of the ASRPA conducts rifle matches shooting cast lead bullets.  The Division has three sections:  Cast Bullet Benchrest\, Schuetzen and 22BPCR.  Each section conducts its own matches under their Match Director.  All matches are shot at the Ben Avery Range. \nFor more information\, times and fees contact match director:  Jim Dorrel at jflsdorr@gmail.com
URL:https://asrpa.com/event/22bpcr-match/
LOCATION:Ben Avery Shooting Facility\, 4044 W Black Canyon Blvd\, PHOENIX\, AZ\, 85086\, United States
END:VEVENT
BEGIN:VEVENT
DTSTART;TZID=America/Denver:20230513T063000
DTEND;TZID=America/Denver:20230513T160000
DTSTAMP:20260420T141441
CREATED:20230420T211639Z
LAST-MODIFIED:20230425T141441Z
UID:10000052-1683959400-1683993600@asrpa.com
SUMMARY:2023 Matt Acker Memorial Junior High Power Rifle Championship
DESCRIPTION:Tournament Date-Time:  SATURDAY\, May 13\, 2023. Pit set-up at 6:30 AM. Squadding starts at 7:05 AM. Pits will be sealed at 7:10 AM. The match will start at 7:30 AM. \nSponsored by: Arizona State Rifle and Pistol Association. \nRange Facility: Ben Avery Shooting Facility\, 4044 W. Black Canyon Blvd.\, Phoenix – High Power Range \nJunior Eligibility: Any Arizona junior shooter under age 21 having experience competing under NRA & CMP High Power Rifle Rules. Those new to competitive shooting\, but who have no experience\, are strongly encouraged to come watch! \nAdult Eligibility: Any HP shooter over the age of 21. \nJunior Entry Fee: Free for current ASRPA members. $15.00 to non-members. \nAdult Entry Fee: $20.00. Pay at match. \nAdvance entries: Entries must be received by 5 PM\, Wednesday\, May 10\, 2023. If submitted by email\, the MS Word form must be utilized. \nLate Entries: No late registration or walk-ups allowed. By reservation only. \nRules: NRA and/or CMP High Power Rifle Rules will apply. \nRifle: Any service rifle meeting rules 3.1a\, thru 3.1e \nCourse of Fire: 50 shots: Two sighters at each position: 10 shots slow fire @ 200 yards\, 10 shots rapid fire sitting in 60 seconds @ 200 yards\, 10 shots rapid fire prone in 70 seconds @ 300 yards\, 20 shots slow fire @ 600 yards. Rapid fire strings will start from standing. \nTargets: SR @ 200 yards\, SR-3 @ 300 yards\, MR-1 @ 600 yards. \nTarget Pullers: Junior Competitors will pull targets\, parents will score on the line.\nTarget Pullers: Adult competitors will pull targets\, score in the pits. \nAwards: Award certificate to high shooter. \nFor additional information\, or advance entries\, contact the match director: azjrhp@cox.net  \nAwards ceremony and potluck barbecue to be held in the pits following the match. \nClub to provide hot dogs\, water and soda. Team members & family are to provide side dishes\, chips\, salsa\, cookies\, salads\, etc. Bring chairs to sit on. \nJunior Registration Form: 2023 Matt Acker Memorial Junior Registration \nAdult Registration Form: 2023 Matt Acker Memorial Adult Registration
URL:https://asrpa.com/event/2023-matt-acker-memorial-junior-high-power-rifle-championship/
LOCATION:Ben Avery Shooting Facility\, 4044 W Black Canyon Blvd\, PHOENIX\, AZ\, 85086\, United States
CATEGORIES:Events
ATTACH;FMTTYPE=image/png:https://asrpa.com/wp-content/uploads/2022/11/ASRPA_POSTER_LOGO-1.png
END:VEVENT
BEGIN:VEVENT
DTSTART;TZID=America/Denver:20230511T173000
DTEND;TZID=America/Denver:20230511T190000
DTSTAMP:20260420T141442
CREATED:20230321T203049Z
LAST-MODIFIED:20230410T193529Z
UID:10000046-1683826200-1683831600@asrpa.com
SUMMARY:Cactus Clays Beginning Sporting Clays Instruction
DESCRIPTION:Cactus Clays Beginning Sporting Clays Instruction \n9-week NRA Shotgun Course for instruction and training of beginning shotgun shooters in the clay target sport of SPORTING CLAYS \nClass Starts April 13\, 2023 and ends June 8\, 2023. \nFor more information:  https://shotgundivisionasrpa.square.site/ \nor email: asrpashots@gmail.com
URL:https://asrpa.com/event/cactus-clays-beginning-sporting-clays-instruction/2023-05-11/
LOCATION:Ben Avery Clay Target Center\, 5060 West Skeet Street\, Phoenix\, Arizona\, 85086
ATTACH;FMTTYPE=image/jpeg:https://asrpa.com/wp-content/uploads/2023/04/ASRPA-Cactus-Clays.jpg
ORGANIZER;CN="ASRPA Shotgun Division":MAILTO:asrpashoots@gmail.com
END:VEVENT
BEGIN:VEVENT
DTSTART;TZID=America/Denver:20230507T080000
DTEND;TZID=America/Denver:20230507T120000
DTSTAMP:20260420T141442
CREATED:20230410T145743Z
LAST-MODIFIED:20230410T150328Z
UID:10000015-1683446400-1683460800@asrpa.com
SUMMARY:Schutzen Rifle Match
DESCRIPTION:CAST BULLET DIVISION\nARIZONA STATE RIFLE AND PISTOL ASSOCIATION\nSCHÜTZEN RIFLE MATCH 2023 \nRange:  Benchrest \nThe Cast Bullet Division of the ASRPA conducts rifle matches shooting cast lead bullets.  The Division has three sections:  Cast Bullet Benchrest\, Schuetzen and 22BPCR.  Each section conducts its own matches under their Match Director.  All matches are shot at the Ben Avery Range. \nFor more information\, times and fees contact match director:  Byron Goff at ffgco1@hotmail.com
URL:https://asrpa.com/event/schutzen-rifle-match-2-2/
LOCATION:Ben Avery Shooting Facility\, 4044 W Black Canyon Blvd\, PHOENIX\, AZ\, 85086\, United States
END:VEVENT
BEGIN:VEVENT
DTSTART;TZID=America/Denver:20230504T173000
DTEND;TZID=America/Denver:20230504T190000
DTSTAMP:20260420T141442
CREATED:20230321T203049Z
LAST-MODIFIED:20230410T193529Z
UID:10000045-1683221400-1683226800@asrpa.com
SUMMARY:Cactus Clays Beginning Sporting Clays Instruction
DESCRIPTION:Cactus Clays Beginning Sporting Clays Instruction \n9-week NRA Shotgun Course for instruction and training of beginning shotgun shooters in the clay target sport of SPORTING CLAYS \nClass Starts April 13\, 2023 and ends June 8\, 2023. \nFor more information:  https://shotgundivisionasrpa.square.site/ \nor email: asrpashots@gmail.com
URL:https://asrpa.com/event/cactus-clays-beginning-sporting-clays-instruction/2023-05-04/
LOCATION:Ben Avery Clay Target Center\, 5060 West Skeet Street\, Phoenix\, Arizona\, 85086
ATTACH;FMTTYPE=image/jpeg:https://asrpa.com/wp-content/uploads/2023/04/ASRPA-Cactus-Clays.jpg
ORGANIZER;CN="ASRPA Shotgun Division":MAILTO:asrpashoots@gmail.com
END:VEVENT
BEGIN:VEVENT
DTSTART;TZID=America/Denver:20230430T080000
DTEND;TZID=America/Denver:20230430T120000
DTSTAMP:20260420T141442
CREATED:20230410T151424Z
LAST-MODIFIED:20230410T151447Z
UID:10000029-1682841600-1682856000@asrpa.com
SUMMARY:Cast Bullet Benchrest Match
DESCRIPTION:CAST BULLET DIVISION\nARIZONA STATE RIFLE AND PISTOL ASSOCIATION\nCAST BULLET BENCHREST MATCH 2023 \nRange:  Commercial on Benchrest \nThe Cast Bullet Division of the ASRPA conducts rifle matches shooting cast lead bullets.  The Division has three sections:  Cast Bullet Benchrest\, Schuetzen and 22BPCR.  Each section conducts its own matches under their Match Director.  All matches are shot at the Ben Avery Range. \nFor more information\, times and fees contact match director:  Dan Walliser at dwalliser32@gmail.com
URL:https://asrpa.com/event/cast-bullet-benchrest-match/
LOCATION:Ben Avery Shooting Facility\, 4044 W Black Canyon Blvd\, PHOENIX\, AZ\, 85086\, United States
END:VEVENT
BEGIN:VEVENT
DTSTART;TZID=America/Denver:20230430T073000
DTEND;TZID=America/Denver:20230430T130000
DTSTAMP:20260420T141442
CREATED:20230317T025148Z
LAST-MODIFIED:20230317T030732Z
UID:10000003-1682839800-1682859600@asrpa.com
SUMMARY:Legacy High Power Rifle Match
DESCRIPTION:Tournament Date & Time: SUNDAY\, April 30\, 2023. Squadding starts at 7:30 AM. The match will start at 8:00 AM.\nEntry: $110 per team\, $30 per individual shooter (includes puller & lunch). Extra meals $7.00\nSign up on-line after March 1\, 2023. \nRange Facility: Usery Mountain Shooting Range (Rio Salado)\, Mesa\, Arizona.\nTournament Information: Four man\, 50 shot team match at 200 yards. Junior pullers ARE PROVIDED as part of the match fee (no pit duty).\nLunch follows the match and is included in the match fee. Additional people may eat for $7.00 each.\nProfits from the match support Team Arizona Juniors at the National Rifle Matches at Camp Perry. \nSponsored by: Rio Salado HP Division and Arizona Junior Rifle Team (ASRPA). \nTeam Captain and/or coach does not have to be a firing member.\nAdvance entries: Recommended\, as the match may fill to capacity. Limited to 15 teams.\nIndividuals may enter to be squadded on a “pick-up” team.\nLate Entries: Accepted up to the start of the match\, as space permits.\nCancellations: Full refund prior to April 21\, 2022. No refunds afterward. \nRules: NRA high power rifle rules apply.\nRifle: Any service or match rifle meeting rules 3.1(a) thru (e) or 3.3.\nCourse of Fire: Stage One: 70 minutes block time for all competitors to shoot 3 sighting shots in any position and 10 shots for record slow fire standing. Stage two: 10 shots rapid fire sitting in 60 seconds. Stage three: 10 shots rapid fire prone in 70 seconds. Stage four: 98 minutes block time for all competitors to shoot 20 shots slow fire prone.\nTargets: SR @ 200 yards for standing and rapid fire sitting. Reduced targets @ 200 yards are used for the prone stages.\nTarget Pullers: Junior pullers are provided as part of the match fee.\nClassifications: NRA classifications not required.\nAwards ceremony and lunch following the match.\nPrizes: Award medallions are issued for Match Winner/high individual\, High Woman and High Senior. Team award medallions are issued for First\, Second and Third place teams. \nFor questions: azjrhp@cox.net
URL:https://asrpa.com/event/legacy-high-power-rifle-match/
LOCATION:Usery Mountain Shooting Range (Rio Salado)\, 3960 N Usery Pass Rd\, Mesa\, AZ\, 85207\, United States
CATEGORIES:Events
ORGANIZER;CN="ASRPA Junior Rifle Team":MAILTO:azjrhp@cox.net
END:VEVENT
BEGIN:VEVENT
DTSTART;TZID=America/Denver:20230427T173000
DTEND;TZID=America/Denver:20230427T190000
DTSTAMP:20260420T141442
CREATED:20230321T203049Z
LAST-MODIFIED:20230410T193529Z
UID:10000044-1682616600-1682622000@asrpa.com
SUMMARY:Cactus Clays Beginning Sporting Clays Instruction
DESCRIPTION:Cactus Clays Beginning Sporting Clays Instruction \n9-week NRA Shotgun Course for instruction and training of beginning shotgun shooters in the clay target sport of SPORTING CLAYS \nClass Starts April 13\, 2023 and ends June 8\, 2023. \nFor more information:  https://shotgundivisionasrpa.square.site/ \nor email: asrpashots@gmail.com
URL:https://asrpa.com/event/cactus-clays-beginning-sporting-clays-instruction/2023-04-27/
LOCATION:Ben Avery Clay Target Center\, 5060 West Skeet Street\, Phoenix\, Arizona\, 85086
ATTACH;FMTTYPE=image/jpeg:https://asrpa.com/wp-content/uploads/2023/04/ASRPA-Cactus-Clays.jpg
ORGANIZER;CN="ASRPA Shotgun Division":MAILTO:asrpashoots@gmail.com
END:VEVENT
BEGIN:VEVENT
DTSTART;TZID=America/Denver:20230423T080000
DTEND;TZID=America/Denver:20230423T120000
DTSTAMP:20260420T141442
CREATED:20230410T145153Z
LAST-MODIFIED:20230410T150115Z
UID:10000013-1682236800-1682251200@asrpa.com
SUMMARY:Schutzen Rifle Match
DESCRIPTION:CAST BULLET DIVISION\nARIZONA STATE RIFLE AND PISTOL ASSOCIATION\nSCHÜTZEN RIFLE MATCH 2023 \nRange:  Smallbore \nThe Cast Bullet Division of the ASRPA conducts rifle matches shooting cast lead bullets.  The Division has three sections:  Cast Bullet Benchrest\, Schuetzen and 22BPCR.  Each section conducts its own matches under their Match Director.  All matches are shot at the Ben Avery Range. \nFor more information\, times and fees contact match director:  Byron Goff at ffgco1@hotmail.com
URL:https://asrpa.com/event/schutzen-rifle-match/
LOCATION:Ben Avery Shooting Facility\, 4044 W Black Canyon Blvd\, PHOENIX\, AZ\, 85086\, United States
END:VEVENT
BEGIN:VEVENT
DTSTART;TZID=America/Denver:20230422T083000
DTEND;TZID=America/Denver:20230422T150000
DTSTAMP:20260420T141442
CREATED:20221003T091110Z
LAST-MODIFIED:20230317T151354Z
UID:10000001-1682152200-1682175600@asrpa.com
SUMMARY:NRA Women on Target (6 hr Class) $110
DESCRIPTION:Hey ladies\, come and join us for a fun day for women only to learn the basic skills for the shooting sports in a safe and supportive atmosphere. The course covers gun safety rules\, different types of pistols\, the basics of ammunition\, fundamentals of pistol shooting\, proper gun cleaning and how to maintain your skills. Registration includes eye & ear protection\, targets\, ammo and pistols. \nRegistration available in the store under upcoming events or if you wish to mail\, Registration Form available at this link: https://azwsa.com/ASRPA-WOT-rEG_04-22-23.pdf
URL:https://asrpa.com/event/nra-women-on-target-6-hr-class-110/
LOCATION:Ben Avery Shooting Facility\, 4044 W Black Canyon Blvd\, PHOENIX\, AZ\, 85086\, United States
CATEGORIES:Events
ATTACH;FMTTYPE=image/png:https://asrpa.com/wp-content/uploads/2022/10/4BF0007632584FB1B07A0F87EBA22367.png
ORGANIZER;CN="ASRPA Women's Division":MAILTO:carolruh@azwsa.com
END:VEVENT
BEGIN:VEVENT
DTSTART;TZID=America/Denver:20230420T173000
DTEND;TZID=America/Denver:20230420T190000
DTSTAMP:20260420T141442
CREATED:20230321T203049Z
LAST-MODIFIED:20230410T193529Z
UID:10000043-1682011800-1682017200@asrpa.com
SUMMARY:Cactus Clays Beginning Sporting Clays Instruction
DESCRIPTION:Cactus Clays Beginning Sporting Clays Instruction \n9-week NRA Shotgun Course for instruction and training of beginning shotgun shooters in the clay target sport of SPORTING CLAYS \nClass Starts April 13\, 2023 and ends June 8\, 2023. \nFor more information:  https://shotgundivisionasrpa.square.site/ \nor email: asrpashots@gmail.com
URL:https://asrpa.com/event/cactus-clays-beginning-sporting-clays-instruction/2023-04-20/
LOCATION:Ben Avery Clay Target Center\, 5060 West Skeet Street\, Phoenix\, Arizona\, 85086
ATTACH;FMTTYPE=image/jpeg:https://asrpa.com/wp-content/uploads/2023/04/ASRPA-Cactus-Clays.jpg
ORGANIZER;CN="ASRPA Shotgun Division":MAILTO:asrpashoots@gmail.com
END:VEVENT
BEGIN:VEVENT
DTSTART;TZID=America/Denver:20230416T080000
DTEND;TZID=America/Denver:20230416T120000
DTSTAMP:20260420T141442
CREATED:20230321T200440Z
LAST-MODIFIED:20230410T150045Z
UID:10000010-1681632000-1681646400@asrpa.com
SUMMARY:Schutzen Rifle Match
DESCRIPTION:CAST BULLET DIVISION\nARIZONA STATE RIFLE AND PISTOL ASSOCIATION\nSCHÜTZEN RIFLE MATCH 2023 \nRange:  Benchrest \nThe Cast Bullet Division of the ASRPA conducts rifle matches shooting cast lead bullets.  The Division has three sections:  Cast Bullet Benchrest\, Schuetzen and 22BPCR.  Each section conducts its own matches under their Match Director.  All matches are shot at the Ben Avery Range. \nFor more information\, times and fees contact match director:  Byron Goff at ffgco1@hotmail.com
URL:https://asrpa.com/event/schutzen-rifle-match-3/
LOCATION:Ben Avery Shooting Facility\, 4044 W Black Canyon Blvd\, PHOENIX\, AZ\, 85086\, United States
END:VEVENT
BEGIN:VEVENT
DTSTART;TZID=America/Denver:20230413T173000
DTEND;TZID=America/Denver:20230413T190000
DTSTAMP:20260420T141442
CREATED:20230321T203049Z
LAST-MODIFIED:20230410T193529Z
UID:10000012-1681407000-1681412400@asrpa.com
SUMMARY:Cactus Clays Beginning Sporting Clays Instruction
DESCRIPTION:Cactus Clays Beginning Sporting Clays Instruction \n9-week NRA Shotgun Course for instruction and training of beginning shotgun shooters in the clay target sport of SPORTING CLAYS \nClass Starts April 13\, 2023 and ends June 8\, 2023. \nFor more information:  https://shotgundivisionasrpa.square.site/ \nor email: asrpashots@gmail.com
URL:https://asrpa.com/event/cactus-clays-beginning-sporting-clays-instruction/2023-04-13/
LOCATION:Ben Avery Clay Target Center\, 5060 West Skeet Street\, Phoenix\, Arizona\, 85086
ATTACH;FMTTYPE=image/jpeg:https://asrpa.com/wp-content/uploads/2023/04/ASRPA-Cactus-Clays.jpg
ORGANIZER;CN="ASRPA Shotgun Division":MAILTO:asrpashoots@gmail.com
END:VEVENT
END:VCALENDAR