BEGIN:VCALENDAR
VERSION:2.0
PRODID:-//Arizona State Rifle and Pistol Association - ECPv6.15.20//NONSGML v1.0//EN
CALSCALE:GREGORIAN
METHOD:PUBLISH
X-WR-CALNAME:Arizona State Rifle and Pistol Association
X-ORIGINAL-URL:https://asrpa.com
X-WR-CALDESC:Events for Arizona State Rifle and Pistol Association
REFRESH-INTERVAL;VALUE=DURATION:PT1H
X-Robots-Tag:noindex
X-PUBLISHED-TTL:PT1H
BEGIN:VTIMEZONE
TZID:America/Denver
BEGIN:DAYLIGHT
TZOFFSETFROM:-0700
TZOFFSETTO:-0600
TZNAME:MDT
DTSTART:20250309T090000
END:DAYLIGHT
BEGIN:STANDARD
TZOFFSETFROM:-0600
TZOFFSETTO:-0700
TZNAME:MST
DTSTART:20251102T080000
END:STANDARD
BEGIN:DAYLIGHT
TZOFFSETFROM:-0700
TZOFFSETTO:-0600
TZNAME:MDT
DTSTART:20260308T090000
END:DAYLIGHT
BEGIN:STANDARD
TZOFFSETFROM:-0600
TZOFFSETTO:-0700
TZNAME:MST
DTSTART:20261101T080000
END:STANDARD
BEGIN:DAYLIGHT
TZOFFSETFROM:-0700
TZOFFSETTO:-0600
TZNAME:MDT
DTSTART:20270314T090000
END:DAYLIGHT
BEGIN:STANDARD
TZOFFSETFROM:-0600
TZOFFSETTO:-0700
TZNAME:MST
DTSTART:20271107T080000
END:STANDARD
END:VTIMEZONE
BEGIN:VEVENT
DTSTART;TZID=America/Denver:20261101T080000
DTEND;TZID=America/Denver:20261101T170000
DTSTAMP:20260420T115046
CREATED:20251022T221358Z
LAST-MODIFIED:20251022T224512Z
UID:10000298-1793520000-1793552400@asrpa.com
SUMMARY:Cast Bullet Match
DESCRIPTION:CAST BULLET DIVISION\nARIZONA STATE RIFLE AND PISTOL ASSOCIATION\nCAST BULLET MATCH 2026 \nRange: Benchrest \nLOCATION: Ben Avery (Black Canyon) Shooting Range – 20 miles north of Phoenix\, Arizona\, west of I-17\,\nexit 223 (Carefree exit). \nThe Cast Bullet Division of the ASRPA conducts rifle matches shooting cast lead bullets. The Division has three sections: Cast Bullet Benchrest\, Schuetzen and 22BPCR. Each section conducts its own matches. All matches are shot at the Ben Avery Range. \nPractice Days on Benchrest:  January 7 & 28\, 2026\, February 11\, 2026\, March 18\, 2026\, April 1\, 15\, & 29\, 2026\, May 13 & 27\, 2026\, June 3 & 17\, 2026\, July 8 & 22\, 2026\, August 5 & 19\, 2026\, September 9 & 23\, 2026\, October 7 & 21\, 2026\, November 4 & 25\, 2026\, December 9 & 23\, 2026 \nFor more information\, practice dates\, match type\, start times and fees contact: Dan Walliser at dwalliser32@gmail.com
URL:https://asrpa.com/event/cast-bullet-match-23/2026-11-01/
LOCATION:Ben Avery Shooting Facility\, 4044 W Black Canyon Blvd\, PHOENIX\, AZ\, 85086\, United States
CATEGORIES:Events
ATTACH;FMTTYPE=image/jpeg:https://asrpa.com/wp-content/uploads/2022/10/New-Project-2022-10-03T103542.324.jpg
END:VEVENT
BEGIN:VEVENT
DTSTART;TZID=America/Denver:20261114T080000
DTEND;TZID=America/Denver:20261114T120000
DTSTAMP:20260420T115046
CREATED:20251129T151655Z
LAST-MODIFIED:20251129T151655Z
UID:10000327-1794643200-1794657600@asrpa.com
SUMMARY:22BPCR Match
DESCRIPTION:CAST BULLET DIVISION\nARIZONA STATE RIFLE AND PISTOL ASSOCIATION\n22BPCR MATCH 2026 \nRange: Pistol Silhouette \nLOCATION: Ben Avery (Black Canyon) Shooting Range – 20 miles north of Phoenix\, Arizona\, west of I-17\,\nexit 223 (Carefree exit). \nThe Cast Bullet Division of the ASRPA conducts rifle matches shooting cast lead bullets. The Division has three sections: Cast Bullet Benchrest\, Schuetzen and 22BPCR. Each section conducts its own matches under their Match Director. All matches are shot at the Ben Avery Range. \nFor more information\, times and fees contact match director: Jim Dorrel at jflsdorr@gmail.com
URL:https://asrpa.com/event/22bpcr-match-22/2026-11-14/
LOCATION:Ben Avery Shooting Facility\, 4044 W Black Canyon Blvd\, PHOENIX\, AZ\, 85086\, United States
ATTACH;FMTTYPE=image/jpeg:https://asrpa.com/wp-content/uploads/2024/03/CAST-BULLET-4-scaled.jpeg
END:VEVENT
BEGIN:VEVENT
DTSTART;TZID=America/Denver:20261115T080000
DTEND;TZID=America/Denver:20261115T170000
DTSTAMP:20260420T115046
CREATED:20251022T224042Z
LAST-MODIFIED:20251022T224353Z
UID:10000314-1794729600-1794762000@asrpa.com
SUMMARY:Schuetzen Rifle Match
DESCRIPTION:CAST BULLET DIVISION\nARIZONA STATE RIFLE AND PISTOL ASSOCIATION\nSCHÜETZEN RIFLE MATCH 2026\nCenterfire and Rimfire\nRange: Benchrest \nLOCATION: Ben Avery (Black Canyon) Shooting Range – 20 miles north of Phoenix\, Arizona\, west of I-17\,\nexit 223 (Carefree exit). \nThe Cast Bullet Division of the ASRPA conducts rifle matches shooting cast lead bullets. The Division has three sections: Cast Bullet Benchrest\, Schuetzen and 22BPCR. Each section conducts its own matches. All matches are shot at the Ben Avery Range. \nRegional Match:  April 17-19\, 2026 and November 20-22\, 2026 \nPractice Days on Benchrest:  January 7 & 28\, 2026\, February 11\, 2026\, March 18\, 2026\, April 1\, 15\, & 29\, 2026\, May 13 & 27\, 2026\, June 3 & 17\, 2026\, July 8 & 22\, 2026\, August 5 & 19\, 2026\, September 9 & 23\, 2026\, October 7 & 21\, 2026\, November 4 & 25\, 2026\, December 9 & 23\, 2026 \nFor more information\, practice dates\, match type\, start times and fees contact: Dan Walliser at dwalliser32@gmail.com
URL:https://asrpa.com/event/schuetzen-rifle-match-18/2026-11-15/
LOCATION:Ben Avery Shooting Facility\, 4044 W Black Canyon Blvd\, PHOENIX\, AZ\, 85086\, United States
ATTACH;FMTTYPE=image/jpeg:https://asrpa.com/wp-content/uploads/2024/03/CAST-BULLET-1.jpg
END:VEVENT
BEGIN:VEVENT
DTSTART;TZID=America/Denver:20261120T080000
DTEND;TZID=America/Denver:20261120T170000
DTSTAMP:20260420T115046
CREATED:20251022T224042Z
LAST-MODIFIED:20251022T224353Z
UID:10000315-1795161600-1795194000@asrpa.com
SUMMARY:Schuetzen Rifle Match
DESCRIPTION:CAST BULLET DIVISION\nARIZONA STATE RIFLE AND PISTOL ASSOCIATION\nSCHÜETZEN RIFLE MATCH 2026\nCenterfire and Rimfire\nRange: Benchrest \nLOCATION: Ben Avery (Black Canyon) Shooting Range – 20 miles north of Phoenix\, Arizona\, west of I-17\,\nexit 223 (Carefree exit). \nThe Cast Bullet Division of the ASRPA conducts rifle matches shooting cast lead bullets. The Division has three sections: Cast Bullet Benchrest\, Schuetzen and 22BPCR. Each section conducts its own matches. All matches are shot at the Ben Avery Range. \nRegional Match:  April 17-19\, 2026 and November 20-22\, 2026 \nPractice Days on Benchrest:  January 7 & 28\, 2026\, February 11\, 2026\, March 18\, 2026\, April 1\, 15\, & 29\, 2026\, May 13 & 27\, 2026\, June 3 & 17\, 2026\, July 8 & 22\, 2026\, August 5 & 19\, 2026\, September 9 & 23\, 2026\, October 7 & 21\, 2026\, November 4 & 25\, 2026\, December 9 & 23\, 2026 \nFor more information\, practice dates\, match type\, start times and fees contact: Dan Walliser at dwalliser32@gmail.com
URL:https://asrpa.com/event/schuetzen-rifle-match-18/2026-11-20/
LOCATION:Ben Avery Shooting Facility\, 4044 W Black Canyon Blvd\, PHOENIX\, AZ\, 85086\, United States
ATTACH;FMTTYPE=image/jpeg:https://asrpa.com/wp-content/uploads/2024/03/CAST-BULLET-1.jpg
END:VEVENT
BEGIN:VEVENT
DTSTART;TZID=America/Denver:20261121T080000
DTEND;TZID=America/Denver:20261121T170000
DTSTAMP:20260420T115046
CREATED:20251022T224042Z
LAST-MODIFIED:20251022T224353Z
UID:10000316-1795248000-1795280400@asrpa.com
SUMMARY:Schuetzen Rifle Match
DESCRIPTION:CAST BULLET DIVISION\nARIZONA STATE RIFLE AND PISTOL ASSOCIATION\nSCHÜETZEN RIFLE MATCH 2026\nCenterfire and Rimfire\nRange: Benchrest \nLOCATION: Ben Avery (Black Canyon) Shooting Range – 20 miles north of Phoenix\, Arizona\, west of I-17\,\nexit 223 (Carefree exit). \nThe Cast Bullet Division of the ASRPA conducts rifle matches shooting cast lead bullets. The Division has three sections: Cast Bullet Benchrest\, Schuetzen and 22BPCR. Each section conducts its own matches. All matches are shot at the Ben Avery Range. \nRegional Match:  April 17-19\, 2026 and November 20-22\, 2026 \nPractice Days on Benchrest:  January 7 & 28\, 2026\, February 11\, 2026\, March 18\, 2026\, April 1\, 15\, & 29\, 2026\, May 13 & 27\, 2026\, June 3 & 17\, 2026\, July 8 & 22\, 2026\, August 5 & 19\, 2026\, September 9 & 23\, 2026\, October 7 & 21\, 2026\, November 4 & 25\, 2026\, December 9 & 23\, 2026 \nFor more information\, practice dates\, match type\, start times and fees contact: Dan Walliser at dwalliser32@gmail.com
URL:https://asrpa.com/event/schuetzen-rifle-match-18/2026-11-21/
LOCATION:Ben Avery Shooting Facility\, 4044 W Black Canyon Blvd\, PHOENIX\, AZ\, 85086\, United States
ATTACH;FMTTYPE=image/jpeg:https://asrpa.com/wp-content/uploads/2024/03/CAST-BULLET-1.jpg
END:VEVENT
BEGIN:VEVENT
DTSTART;TZID=America/Denver:20261121T083000
DTEND;TZID=America/Denver:20261121T150000
DTSTAMP:20260420T115046
CREATED:20260122T175738Z
LAST-MODIFIED:20260122T175813Z
UID:10000437-1795249800-1795273200@asrpa.com
SUMMARY:NRA Women on Target (6 hr Class)
DESCRIPTION:Hey ladies\, come and join us for a fun day for women only to learn the basic skills for the shooting sports in a safe and supportive atmosphere. The course covers gun safety rules\, different types of pistols\, the basics of ammunition\, fundamentals of pistol shooting\, proper gun cleaning and how to maintain your skills. Registration includes eye & ear protection\, targets\, ammo and pistols. \nRegister online at:  Registration NRA Women on Target \nFor more information contact Carol Ruh at carolruh@azwsa.com or Kim Campagna at kimcampagna@azwsa.com
URL:https://asrpa.com/event/nra-women-on-target-6-hr-class-7/
LOCATION:Ben Avery Shooting Facility\, 4044 W Black Canyon Blvd\, PHOENIX\, AZ\, 85086\, United States
CATEGORIES:Events
ATTACH;FMTTYPE=image/png:https://asrpa.com/wp-content/uploads/2022/10/4BF0007632584FB1B07A0F87EBA22367.png
ORGANIZER;CN="ASRPA Women's Division":MAILTO:carolruh@azwsa.com
END:VEVENT
BEGIN:VEVENT
DTSTART;TZID=America/Denver:20261121T090000
DTEND;TZID=America/Denver:20261121T130000
DTSTAMP:20260420T115046
CREATED:20251013T161457Z
LAST-MODIFIED:20260122T181706Z
UID:10000282-1795251600-1795266000@asrpa.com
SUMMARY:Women’s Basic Pistol – Intermediate & Holster Class
DESCRIPTION:This course is for the beginner who has taken a class but has not developed their shooting skills. The course will review safety rules\, nomenclature\, and is designed to help students have a clear understanding on how a handgun works. The course focuses on safe gun handling\, gun manipulation\, clearing malfunctions and learning to draw from holster with proficiency. Range requires 100 rounds of ammo supplied by student. If needed\, Gun and Holster can be rented for $15.\nHosted by: Arizona Women’s Shooting Associates \nRegister online at:  Registration Women’s Basic Pistol Intermediate
URL:https://asrpa.com/event/womens-basic-pistol-intermediate-holster-class-6/
LOCATION:Ben Avery Shooting Facility\, 4044 W Black Canyon Blvd\, PHOENIX\, AZ\, 85086\, United States
CATEGORIES:Events,Training
ATTACH;FMTTYPE=image/jpeg:https://asrpa.com/wp-content/uploads/2023/03/AWSA-Logo.jpg
ORGANIZER;CN="ASRPA Women's Division":MAILTO:carolruh@azwsa.com
END:VEVENT
BEGIN:VEVENT
DTSTART;TZID=America/Denver:20261122T080000
DTEND;TZID=America/Denver:20261122T170000
DTSTAMP:20260420T115046
CREATED:20251022T224042Z
LAST-MODIFIED:20251022T224353Z
UID:10000317-1795334400-1795366800@asrpa.com
SUMMARY:Schuetzen Rifle Match
DESCRIPTION:CAST BULLET DIVISION\nARIZONA STATE RIFLE AND PISTOL ASSOCIATION\nSCHÜETZEN RIFLE MATCH 2026\nCenterfire and Rimfire\nRange: Benchrest \nLOCATION: Ben Avery (Black Canyon) Shooting Range – 20 miles north of Phoenix\, Arizona\, west of I-17\,\nexit 223 (Carefree exit). \nThe Cast Bullet Division of the ASRPA conducts rifle matches shooting cast lead bullets. The Division has three sections: Cast Bullet Benchrest\, Schuetzen and 22BPCR. Each section conducts its own matches. All matches are shot at the Ben Avery Range. \nRegional Match:  April 17-19\, 2026 and November 20-22\, 2026 \nPractice Days on Benchrest:  January 7 & 28\, 2026\, February 11\, 2026\, March 18\, 2026\, April 1\, 15\, & 29\, 2026\, May 13 & 27\, 2026\, June 3 & 17\, 2026\, July 8 & 22\, 2026\, August 5 & 19\, 2026\, September 9 & 23\, 2026\, October 7 & 21\, 2026\, November 4 & 25\, 2026\, December 9 & 23\, 2026 \nFor more information\, practice dates\, match type\, start times and fees contact: Dan Walliser at dwalliser32@gmail.com
URL:https://asrpa.com/event/schuetzen-rifle-match-18/2026-11-22/
LOCATION:Ben Avery Shooting Facility\, 4044 W Black Canyon Blvd\, PHOENIX\, AZ\, 85086\, United States
ATTACH;FMTTYPE=image/jpeg:https://asrpa.com/wp-content/uploads/2024/03/CAST-BULLET-1.jpg
END:VEVENT
BEGIN:VEVENT
DTSTART;TZID=America/Denver:20261206T080000
DTEND;TZID=America/Denver:20261206T170000
DTSTAMP:20260420T115046
CREATED:20251022T224042Z
LAST-MODIFIED:20251022T224353Z
UID:10000318-1796544000-1796576400@asrpa.com
SUMMARY:Schuetzen Rifle Match
DESCRIPTION:CAST BULLET DIVISION\nARIZONA STATE RIFLE AND PISTOL ASSOCIATION\nSCHÜETZEN RIFLE MATCH 2026\nCenterfire and Rimfire\nRange: Benchrest \nLOCATION: Ben Avery (Black Canyon) Shooting Range – 20 miles north of Phoenix\, Arizona\, west of I-17\,\nexit 223 (Carefree exit). \nThe Cast Bullet Division of the ASRPA conducts rifle matches shooting cast lead bullets. The Division has three sections: Cast Bullet Benchrest\, Schuetzen and 22BPCR. Each section conducts its own matches. All matches are shot at the Ben Avery Range. \nRegional Match:  April 17-19\, 2026 and November 20-22\, 2026 \nPractice Days on Benchrest:  January 7 & 28\, 2026\, February 11\, 2026\, March 18\, 2026\, April 1\, 15\, & 29\, 2026\, May 13 & 27\, 2026\, June 3 & 17\, 2026\, July 8 & 22\, 2026\, August 5 & 19\, 2026\, September 9 & 23\, 2026\, October 7 & 21\, 2026\, November 4 & 25\, 2026\, December 9 & 23\, 2026 \nFor more information\, practice dates\, match type\, start times and fees contact: Dan Walliser at dwalliser32@gmail.com
URL:https://asrpa.com/event/schuetzen-rifle-match-18/2026-12-06/
LOCATION:Ben Avery Shooting Facility\, 4044 W Black Canyon Blvd\, PHOENIX\, AZ\, 85086\, United States
ATTACH;FMTTYPE=image/jpeg:https://asrpa.com/wp-content/uploads/2024/03/CAST-BULLET-1.jpg
END:VEVENT
BEGIN:VEVENT
DTSTART;TZID=America/Denver:20261211T080000
DTEND;TZID=America/Denver:20261211T120000
DTSTAMP:20260420T115047
CREATED:20251129T151655Z
LAST-MODIFIED:20251129T151655Z
UID:10000328-1796976000-1796990400@asrpa.com
SUMMARY:22BPCR Match
DESCRIPTION:CAST BULLET DIVISION\nARIZONA STATE RIFLE AND PISTOL ASSOCIATION\n22BPCR MATCH 2026 \nRange: Pistol Silhouette \nLOCATION: Ben Avery (Black Canyon) Shooting Range – 20 miles north of Phoenix\, Arizona\, west of I-17\,\nexit 223 (Carefree exit). \nThe Cast Bullet Division of the ASRPA conducts rifle matches shooting cast lead bullets. The Division has three sections: Cast Bullet Benchrest\, Schuetzen and 22BPCR. Each section conducts its own matches under their Match Director. All matches are shot at the Ben Avery Range. \nFor more information\, times and fees contact match director: Jim Dorrel at jflsdorr@gmail.com
URL:https://asrpa.com/event/22bpcr-match-22/2026-12-11/
LOCATION:Ben Avery Shooting Facility\, 4044 W Black Canyon Blvd\, PHOENIX\, AZ\, 85086\, United States
ATTACH;FMTTYPE=image/jpeg:https://asrpa.com/wp-content/uploads/2024/03/CAST-BULLET-4-scaled.jpeg
END:VEVENT
BEGIN:VEVENT
DTSTART;TZID=America/Denver:20261212T080000
DTEND;TZID=America/Denver:20261212T120000
DTSTAMP:20260420T115047
CREATED:20251129T151655Z
LAST-MODIFIED:20251129T151655Z
UID:10000329-1797062400-1797076800@asrpa.com
SUMMARY:22BPCR Match
DESCRIPTION:CAST BULLET DIVISION\nARIZONA STATE RIFLE AND PISTOL ASSOCIATION\n22BPCR MATCH 2026 \nRange: Pistol Silhouette \nLOCATION: Ben Avery (Black Canyon) Shooting Range – 20 miles north of Phoenix\, Arizona\, west of I-17\,\nexit 223 (Carefree exit). \nThe Cast Bullet Division of the ASRPA conducts rifle matches shooting cast lead bullets. The Division has three sections: Cast Bullet Benchrest\, Schuetzen and 22BPCR. Each section conducts its own matches under their Match Director. All matches are shot at the Ben Avery Range. \nFor more information\, times and fees contact match director: Jim Dorrel at jflsdorr@gmail.com
URL:https://asrpa.com/event/22bpcr-match-22/2026-12-12/
LOCATION:Ben Avery Shooting Facility\, 4044 W Black Canyon Blvd\, PHOENIX\, AZ\, 85086\, United States
ATTACH;FMTTYPE=image/jpeg:https://asrpa.com/wp-content/uploads/2024/03/CAST-BULLET-4-scaled.jpeg
END:VEVENT
BEGIN:VEVENT
DTSTART;TZID=America/Denver:20261213T080000
DTEND;TZID=America/Denver:20261213T120000
DTSTAMP:20260420T115047
CREATED:20251129T151655Z
LAST-MODIFIED:20251129T151655Z
UID:10000330-1797148800-1797163200@asrpa.com
SUMMARY:22BPCR Match
DESCRIPTION:CAST BULLET DIVISION\nARIZONA STATE RIFLE AND PISTOL ASSOCIATION\n22BPCR MATCH 2026 \nRange: Pistol Silhouette \nLOCATION: Ben Avery (Black Canyon) Shooting Range – 20 miles north of Phoenix\, Arizona\, west of I-17\,\nexit 223 (Carefree exit). \nThe Cast Bullet Division of the ASRPA conducts rifle matches shooting cast lead bullets. The Division has three sections: Cast Bullet Benchrest\, Schuetzen and 22BPCR. Each section conducts its own matches under their Match Director. All matches are shot at the Ben Avery Range. \nFor more information\, times and fees contact match director: Jim Dorrel at jflsdorr@gmail.com
URL:https://asrpa.com/event/22bpcr-match-22/2026-12-13/
LOCATION:Ben Avery Shooting Facility\, 4044 W Black Canyon Blvd\, PHOENIX\, AZ\, 85086\, United States
ATTACH;FMTTYPE=image/jpeg:https://asrpa.com/wp-content/uploads/2024/03/CAST-BULLET-4-scaled.jpeg
END:VEVENT
BEGIN:VEVENT
DTSTART;TZID=America/Denver:20261227T080000
DTEND;TZID=America/Denver:20261227T170000
DTSTAMP:20260420T115047
CREATED:20251022T221358Z
LAST-MODIFIED:20251022T224512Z
UID:10000299-1798358400-1798390800@asrpa.com
SUMMARY:Cast Bullet Match
DESCRIPTION:CAST BULLET DIVISION\nARIZONA STATE RIFLE AND PISTOL ASSOCIATION\nCAST BULLET MATCH 2026 \nRange: Benchrest \nLOCATION: Ben Avery (Black Canyon) Shooting Range – 20 miles north of Phoenix\, Arizona\, west of I-17\,\nexit 223 (Carefree exit). \nThe Cast Bullet Division of the ASRPA conducts rifle matches shooting cast lead bullets. The Division has three sections: Cast Bullet Benchrest\, Schuetzen and 22BPCR. Each section conducts its own matches. All matches are shot at the Ben Avery Range. \nPractice Days on Benchrest:  January 7 & 28\, 2026\, February 11\, 2026\, March 18\, 2026\, April 1\, 15\, & 29\, 2026\, May 13 & 27\, 2026\, June 3 & 17\, 2026\, July 8 & 22\, 2026\, August 5 & 19\, 2026\, September 9 & 23\, 2026\, October 7 & 21\, 2026\, November 4 & 25\, 2026\, December 9 & 23\, 2026 \nFor more information\, practice dates\, match type\, start times and fees contact: Dan Walliser at dwalliser32@gmail.com
URL:https://asrpa.com/event/cast-bullet-match-23/2026-12-27/
LOCATION:Ben Avery Shooting Facility\, 4044 W Black Canyon Blvd\, PHOENIX\, AZ\, 85086\, United States
CATEGORIES:Events
ATTACH;FMTTYPE=image/jpeg:https://asrpa.com/wp-content/uploads/2022/10/New-Project-2022-10-03T103542.324.jpg
END:VEVENT
END:VCALENDAR