BEGIN:VCALENDAR
VERSION:2.0
PRODID:-//Arizona State Rifle and Pistol Association - ECPv6.15.20//NONSGML v1.0//EN
CALSCALE:GREGORIAN
METHOD:PUBLISH
X-ORIGINAL-URL:https://asrpa.com
X-WR-CALDESC:Events for Arizona State Rifle and Pistol Association
REFRESH-INTERVAL;VALUE=DURATION:PT1H
X-Robots-Tag:noindex
X-PUBLISHED-TTL:PT1H
BEGIN:VTIMEZONE
TZID:America/Denver
BEGIN:DAYLIGHT
TZOFFSETFROM:-0700
TZOFFSETTO:-0600
TZNAME:MDT
DTSTART:20240310T090000
END:DAYLIGHT
BEGIN:STANDARD
TZOFFSETFROM:-0600
TZOFFSETTO:-0700
TZNAME:MST
DTSTART:20241103T080000
END:STANDARD
BEGIN:DAYLIGHT
TZOFFSETFROM:-0700
TZOFFSETTO:-0600
TZNAME:MDT
DTSTART:20250309T090000
END:DAYLIGHT
BEGIN:STANDARD
TZOFFSETFROM:-0600
TZOFFSETTO:-0700
TZNAME:MST
DTSTART:20251102T080000
END:STANDARD
BEGIN:DAYLIGHT
TZOFFSETFROM:-0700
TZOFFSETTO:-0600
TZNAME:MDT
DTSTART:20260308T090000
END:DAYLIGHT
BEGIN:STANDARD
TZOFFSETFROM:-0600
TZOFFSETTO:-0700
TZNAME:MST
DTSTART:20261101T080000
END:STANDARD
END:VTIMEZONE
BEGIN:VEVENT
DTSTART;TZID=America/Denver:20251227T080000
DTEND;TZID=America/Denver:20251227T170000
DTSTAMP:20260421T010531
CREATED:20251211T033532Z
LAST-MODIFIED:20251214T141032Z
UID:10000334-1766822400-1766854800@asrpa.com
SUMMARY:CMP HIGH POWER RIFLE 80-SHOT MATCH
DESCRIPTION:Hosted by: The Scorpions Rifle Team\, ASRPA and Desert Sharpshooters\nDate:  December 27\, 2025\nLocation: Ben Avery Shooting Facility High Power Range\nRoll call Pit E-target set-up at 8:00 a.m. Firing will start is 9 a.m.\nRules: CMP High Power Rifle Competition Rules See:   CMP High Power Rifle Competition Rules\nEligibility: CMP competitor number required.  If you do not have a CMP number you can register at the following link:  CMP Competitor # Registration\nPlease click on the following CMP Affidavit link:   CMP Affidavit  and Email completed form by December 23\, 2025 to Bill Poole at:  bill@poole.com\nEntry Fee: $40.00 for adults\, $15 for juniors. (includes BASF fee)\nEntries: Entries limited to 30 shooters Entries will be accepted on first come/first serve basis until all firing points are filled. Competitors must have a CMP competitor number and sign and return the CMP affidavit with their entry.\nSafety rules: Approved empty chamber indicators (ECIs) are required to be in all rifles except during prep and firing periods. ECI’s can be purchased from the match staff for $2 each. Safety glasses and ear protection must be worn by all competitors and spectators on or near the firing line.\nFor complete Competition information click on the following link:  CMP High Power Rifle Competition Information\nRegister on line at:  CMP HIGH POWER RIFLE 80-SHOT MATCH
URL:https://asrpa.com/event/cmp-high-power-rifle-80-shot-match/
LOCATION:Ben Avery Shooting Facility\, 4044 W Black Canyon Blvd\, PHOENIX\, AZ\, 85086\, United States
ATTACH;FMTTYPE=image/jpeg:https://asrpa.com/wp-content/uploads/2024/02/ASRPA-Rifle-Team.jpg
ORGANIZER;CN="ASRPA Junior Rifle Team":MAILTO:azjrhp@cox.net
END:VEVENT
END:VCALENDAR